View In:
ArcGIS JavaScript
ArcGIS Online map viewer
Google Earth
ArcMap
ArcGIS Explorer
View Footprint In:
ArcGIS Online map viewer
Service Description: This is a tile cache service showing distribution and density of fishing locations from Vessel Monitoring System (VMS) data provided by NOAA National Marine Fishery Service (NMFS).
Map Name: Layers
Legend
All Layers and Tables
Layers:
Description:
Copyright Text: NROC, NMFS
Spatial Reference:
102100
(3857)
Single Fused Map Cache: true
Tile Info:
- Height: 256
- Width: 256
- DPI: 96
-
Levels of Detail: 20
-
Level ID: 1
[ Start Tile, End Tile ]
- Resolution: 78271.5169639999
- Scale: 2.95828763795777E8
-
Level ID: 2
[ Start Tile, End Tile ]
- Resolution: 39135.7584820001
- Scale: 1.47914381897889E8
-
Level ID: 3
[ Start Tile, End Tile ]
- Resolution: 19567.8792409999
- Scale: 7.3957190948944E7
-
Level ID: 4
[ Start Tile, End Tile ]
- Resolution: 9783.93962049996
- Scale: 3.6978595474472E7
-
Level ID: 5
[ Start Tile, End Tile ]
- Resolution: 4891.96981024998
- Scale: 1.8489297737236E7
- Format: PNG
- Compression Quality: 0.0
- Origin: X: -2.0037508342787E7
Y: 2.0037508342787E7
- Spatial Reference: 102100
(3857)
Initial Extent:
XMin: -7980993.555994884
YMin: 4941825.308038289
XMax: -7778851.485044076
YMax: 5077292.245638831
Spatial Reference: 102100
Full Extent:
XMin: -8581328.823443456
YMin: 3937891.25739352
XMax: -7343118.072220994
YMax: 5376853.414230573
Spatial Reference: 102100
Units: esriMeters
Supported Image Format Types: PNG32,PNG24,PNG,JPG,DIB,TIFF,EMF,PS,PDF,GIF,SVG,SVGZ,BMP
Document Info:
Title: Squid VMS 2014
Author:
Comments: This is a tile cache service showing distribution and density of fishing locations from Vessel Monitoring System (VMS) data provided by NOAA National Marine Fishery Service (NMFS).
Subject: This is a tile cache service showing distribution and density of fishing locations from Vessel Monitoring System (VMS) data
Category:
Keywords: commercial fishing
AntialiasingMode: None
TextAntialiasingMode: Force
Supports Dynamic Layers: false
MaxRecordCount: 1000
MaxImageHeight: 4096
MaxImageWidth: 4096
Supported Query Formats: JSON, AMF, geoJSON
Min Scale: 9244648.868618
Max Scale: 144447.638572
Child Resources:
Info
Supported Operations:
Export Map
Identify
Find
Return Updates
Generate KML