{
 "currentVersion": 10.41,
 "serviceDescription": "The basemap layer contains property information from The Nature Conservancy\u2019s 2015 Secured Lands (public version) dataset and includes the following types of lands within a 10 kilometer shoreline buffer of the northeastern United States: Nature Reserves, Preserves and Sanctuaries, National Wildlife Refuges, Wildlife Managed Areas, Municipal Forests, Lands and Parks and State Forests, Lands and Parks. The secured lands dataset shows public lands, private lands and waters secured by a conservation situation that includes an explicit level of security from future conversion and current incompatible uses. The Nature Conservancy\u2019s secured land dataset strives to include all permanently protected lands in the eastern 18 U.S. states and is compiled annually from over sixty sources. This dataset displays a subset of secured lands from the larger dataset provided by The Nature Conservancy\u2019s Eastern Division. For the most part, it is a combination of public land information maintained by each state, and private conservation land information compiled by the Nature Conservancy\u2019s state field offices. The complete version of the secured lands dataset can be found at http://nature.ly/securedareas along with a detailed report, and additional information. Please see attached metadata for more information. Please be advised that not all sites found in The Nature Conservancy\u2019s secured lands dataset and the dataset provided on the Northeast Ocean Data Portal are publically accessible. (public version) dataset and includes the following types of lands within a 10 kilometer shoreline buffer of the northeastern United States: Nature Reserves, Preserves and Sanctuaries, National Wildlife Refuges, Wildlife Managed Areas, Municipal Forests, Lands and Parks and State Forests, Lands and Parks. The secured lands dataset shows public lands, private lands and waters secured by a conservation situation that includes an explicit level of security from future conversion and current incompatible uses. The Nature Conservancy\u2019s secured land dataset strives to include all permanently protected lands in the eastern 18 U.S. states and is compiled annually from over sixty sources. This dataset displays a subset of secured lands from the larger dataset provided by The Nature Conservancy\u2019s Eastern Division. For the most part, it is a combination of public land information maintained by each state, and private conservation land information compiled by the Nature Conservancy\u2019s state field offices. The complete version of the secured lands dataset can be found at http://nature.ly/securedareas along with a detailed report, and additional information. Please see attached metadata for more information. Please be advised that not all sites found in The Nature Conservancy\u2019s secured lands dataset and the dataset provided on the Northeast Ocean Data Portal are publically accessible.",
 "mapName": "Layers",
 "description": "",
 "copyrightText": "TNC",
 "supportsDynamicLayers": false,
 "layers": [
  {
   "id": 0,
   "name": "Secured Lands \u2013 by Designation",
   "parentLayerId": -1,
   "defaultVisibility": true,
   "subLayerIds": null,
   "minScale": 0,
   "maxScale": 0
  }
 ],
 "tables": [],
 "spatialReference": {
  "wkid": 102100,
  "latestWkid": 3857
 },
 "singleFusedMapCache": true,
 "tileInfo": {
  "rows": 256,
  "cols": 256,
  "dpi": 96,
  "format": "PNG",
  "compressionQuality": 0,
  "origin": {
   "x": -2.0037508342787E7,
   "y": 2.0037508342787E7
  },
  "spatialReference": {
   "wkid": 102100,
   "latestWkid": 3857
  },
  "lods": [
   {
    "level": 0,
    "resolution": 156543.03392800014,
    "scale": 5.91657527591555E8
   },
   {
    "level": 1,
    "resolution": 78271.51696399994,
    "scale": 2.95828763795777E8
   },
   {
    "level": 2,
    "resolution": 39135.75848200009,
    "scale": 1.47914381897889E8
   },
   {
    "level": 3,
    "resolution": 19567.87924099992,
    "scale": 7.3957190948944E7
   },
   {
    "level": 4,
    "resolution": 9783.93962049996,
    "scale": 3.6978595474472E7
   },
   {
    "level": 5,
    "resolution": 4891.96981024998,
    "scale": 1.8489297737236E7
   },
   {
    "level": 6,
    "resolution": 2445.98490512499,
    "scale": 9244648.868618
   },
   {
    "level": 7,
    "resolution": 1222.992452562495,
    "scale": 4622324.434309
   },
   {
    "level": 8,
    "resolution": 611.4962262813797,
    "scale": 2311162.217155
   },
   {
    "level": 9,
    "resolution": 305.74811314055756,
    "scale": 1155581.108577
   },
   {
    "level": 10,
    "resolution": 152.87405657041106,
    "scale": 577790.554289
   },
   {
    "level": 11,
    "resolution": 76.43702828507324,
    "scale": 288895.277144
   },
   {
    "level": 12,
    "resolution": 38.21851414253662,
    "scale": 144447.638572
   },
   {
    "level": 13,
    "resolution": 19.10925707126831,
    "scale": 72223.819286
   },
   {
    "level": 14,
    "resolution": 9.554628535634155,
    "scale": 36111.909643
   },
   {
    "level": 15,
    "resolution": 4.77731426794937,
    "scale": 18055.954822
   },
   {
    "level": 16,
    "resolution": 2.388657133974685,
    "scale": 9027.977411
   },
   {
    "level": 17,
    "resolution": 1.1943285668550503,
    "scale": 4513.988705
   },
   {
    "level": 18,
    "resolution": 0.5971642835598172,
    "scale": 2256.994353
   },
   {
    "level": 19,
    "resolution": 0.29858214164761665,
    "scale": 1128.497176
   }
  ]
 },
 "initialExtent": {
  "xmin": -9123531.136023093,
  "ymin": 5318274.760600275,
  "xmax": -6982842.626934574,
  "ymax": 6095682.69284821,
  "spatialReference": {
   "cs": "pcs",
   "wkid": 102100
  }
 },
 "fullExtent": {
  "xmin": -8701574.477049721,
  "ymin": 4220070.82785161,
  "xmax": -7404799.285907947,
  "ymax": 6006367.842134087,
  "spatialReference": {
   "cs": "pcs",
   "wkid": 102100
  }
 },
 "minScale": 4622324.434309,
 "maxScale": 36111.909643,
 "units": "esriMeters",
 "supportedImageFormatTypes": "PNG32,PNG24,PNG,JPG,DIB,TIFF,EMF,PS,PDF,GIF,SVG,SVGZ,BMP",
 "documentInfo": {
  "Title": "",
  "Author": "",
  "Comments": "The basemap layer contains property information from The Nature Conservancy\u2019s 2015 Secured Lands (public version) dataset and includes the following types of lands within a 10 kilometer shoreline buffer of the northeastern United States: Nature Reserves, Preserves and Sanctuaries, National Wildlife Refuges, Wildlife Managed Areas, Municipal Forests, Lands and Parks and State Forests, Lands and Parks. The secured lands dataset shows public lands, private lands and waters secured by a conservation situation that includes an explicit level of security from future conversion and current incompatible uses. The Nature Conservancy\u2019s secured land dataset strives to include all permanently protected lands in the eastern 18 U.S. states and is compiled annually from over sixty sources. This dataset displays a subset of secured lands from the larger dataset provided by The Nature Conservancy\u2019s Eastern Division. For the most part, it is a combination of public land information maintained by each state, and private conservation land information compiled by the Nature Conservancy\u2019s state field offices. The complete version of the secured lands dataset can be found at http://nature.ly/securedareas along with a detailed report, and additional information. Please see attached metadata for more information. Please be advised that not all sites found in The Nature Conservancy\u2019s secured lands dataset and the dataset provided on the Northeast Ocean Data Portal are publically accessible. (public version) dataset and includes the following types of lands within a 10 kilometer shoreline buffer of the northeastern United States: Nature Reserves, Preserves and Sanctuaries, National Wildlife Refuges, Wildlife Managed Areas, Municipal Forests, Lands and Parks and State Forests, Lands and Parks. The secured lands dataset shows public lands, private lands and waters secured by a conservation situation that includes an explicit level of security from future conversion and current incompatible uses. The Nature Conservancy\u2019s secured land dataset strives to include all permanently protected lands in the eastern 18 U.S. states and is compiled annually from over sixty sources. This dataset displays a subset of secured lands from the larger dataset provided by The Nature Conservancy\u2019s Eastern Division. For the most part, it is a combination of public land information maintained by each state, and private conservation land information compiled by the Nature Conservancy\u2019s state field offices. The complete version of the secured lands dataset can be found at http://nature.ly/securedareas along with a detailed report, and additional information. Please see attached metadata for more information. Please be advised that not all sites found in The Nature Conservancy\u2019s secured lands dataset and the dataset provided on the Northeast Ocean Data Portal are publically accessible.",
  "Subject": "The basemap layer contains property information from The Nature Conservancy\u2019s 2015 Secured Lands (public version) dataset and includes the following types of lands within a 10 kilometer shoreline buffer of the northeastern United States",
  "Category": "",
  "AntialiasingMode": "None",
  "TextAntialiasingMode": "Force",
  "Keywords": " "
 },
 "capabilities": "Map,Query,Data",
 "supportedQueryFormats": "JSON, AMF, geoJSON",
 "exportTilesAllowed": false,
 "maxRecordCount": 1000,
 "maxImageHeight": 4096,
 "maxImageWidth": 4096,
 "supportedExtensions": "KmlServer"
}
